BEGIN:VCALENDAR
VERSION:2.0
PRODID:-//PFWB - ECPv6.15.20//NONSGML v1.0//EN
CALSCALE:GREGORIAN
METHOD:PUBLISH
X-WR-CALNAME:PFWB
X-ORIGINAL-URL:https://pfwb.org
X-WR-CALDESC:Events for PFWB
REFRESH-INTERVAL;VALUE=DURATION:PT1H
X-Robots-Tag:noindex
X-PUBLISHED-TTL:PT1H
BEGIN:VTIMEZONE
TZID:America/New_York
BEGIN:DAYLIGHT
TZOFFSETFROM:-0500
TZOFFSETTO:-0400
TZNAME:EDT
DTSTART:20250309T070000
END:DAYLIGHT
BEGIN:STANDARD
TZOFFSETFROM:-0400
TZOFFSETTO:-0500
TZNAME:EST
DTSTART:20251102T060000
END:STANDARD
BEGIN:DAYLIGHT
TZOFFSETFROM:-0500
TZOFFSETTO:-0400
TZNAME:EDT
DTSTART:20260308T070000
END:DAYLIGHT
BEGIN:STANDARD
TZOFFSETFROM:-0400
TZOFFSETTO:-0500
TZNAME:EST
DTSTART:20261101T060000
END:STANDARD
BEGIN:DAYLIGHT
TZOFFSETFROM:-0500
TZOFFSETTO:-0400
TZNAME:EDT
DTSTART:20270314T070000
END:DAYLIGHT
BEGIN:STANDARD
TZOFFSETFROM:-0400
TZOFFSETTO:-0500
TZNAME:EST
DTSTART:20271107T060000
END:STANDARD
END:VTIMEZONE
BEGIN:VEVENT
DTSTART;VALUE=DATE:20260220
DTEND;VALUE=DATE:20260223
DTSTAMP:20260421T144900
CREATED:20241216T151115Z
LAST-MODIFIED:20260129T180548Z
UID:7379-1771545600-1771804799@pfwb.org
SUMMARY:Encounter Students '26
DESCRIPTION:February 20-22\, 2026 \nAre you a student in Middle/High School or College and looking for a conference just for you?\nThen check out the Encounter Student Conference on February 20-22.\nThis is a weekend experience for students and leaders to encounter Jesus through dynamic worship and powerful teaching. \n Click Here \nFor more information and to register
URL:https://pfwb.org/event/encounter-26/
CATEGORIES:Student Ministry,Youth Events
ATTACH;FMTTYPE=image/jpeg:https://ing-ingage.s3.amazonaws.com/pfwb/2024/12/29130540/Encounter-26-small.jpg
END:VEVENT
END:VCALENDAR