BEGIN:VCALENDAR
VERSION:2.0
PRODID:-//PFWB - ECPv6.15.20//NONSGML v1.0//EN
CALSCALE:GREGORIAN
METHOD:PUBLISH
X-ORIGINAL-URL:https://pfwb.org
X-WR-CALDESC:Events for PFWB
REFRESH-INTERVAL;VALUE=DURATION:PT1H
X-Robots-Tag:noindex
X-PUBLISHED-TTL:PT1H
BEGIN:VTIMEZONE
TZID:America/New_York
BEGIN:DAYLIGHT
TZOFFSETFROM:-0500
TZOFFSETTO:-0400
TZNAME:EDT
DTSTART:20240310T070000
END:DAYLIGHT
BEGIN:STANDARD
TZOFFSETFROM:-0400
TZOFFSETTO:-0500
TZNAME:EST
DTSTART:20241103T060000
END:STANDARD
BEGIN:DAYLIGHT
TZOFFSETFROM:-0500
TZOFFSETTO:-0400
TZNAME:EDT
DTSTART:20250309T070000
END:DAYLIGHT
BEGIN:STANDARD
TZOFFSETFROM:-0400
TZOFFSETTO:-0500
TZNAME:EST
DTSTART:20251102T060000
END:STANDARD
BEGIN:DAYLIGHT
TZOFFSETFROM:-0500
TZOFFSETTO:-0400
TZNAME:EDT
DTSTART:20260308T070000
END:DAYLIGHT
BEGIN:STANDARD
TZOFFSETFROM:-0400
TZOFFSETTO:-0500
TZNAME:EST
DTSTART:20261101T060000
END:STANDARD
END:VTIMEZONE
BEGIN:VEVENT
DTSTART;TZID=America/New_York:20251103T190000
DTEND;TZID=America/New_York:20251103T200000
DTSTAMP:20260421T205901
CREATED:20241210T180958Z
LAST-MODIFIED:20250807T190001Z
UID:9704-1762196400-1762200000@pfwb.org
SUMMARY:Student Leaders Gathering - Fall
DESCRIPTION:We want to invite Student Pastors & Leaders (Middle & High School Ministry) to join us for Zoom Meetings in 2025.  \n Different topics and special guest each meeting.  \nWho Is The Zoom Call For?\nIf you are a Student Pastor or Leader who is looking for a great place to connect with\nother Student Pastors and Leaders\, then we would love for you to join us. \nWhy Should I Join The Zoom Call?\nYou will be encouraged\, challenged and inspired by others who are\ninvolved in Student Ministry\, just like you! \n2025 – Fall Date\nNovember 3 @ 7:00pm \nGuest Speaker\nHugo Zacarias (Overflow Church\, Angier) \n Registration Now To Join 
URL:https://pfwb.org/event/student-leaders-gathering-fall/
CATEGORIES:CYC,Discipleship Events,Student Ministry,Youth Events
ATTACH;FMTTYPE=image/jpeg:https://ing-ingage.s3.amazonaws.com/pfwb/2024/12/07145927/Youth-Leader-Calls-2025-05.jpg
END:VEVENT
END:VCALENDAR