BEGIN:VCALENDAR
VERSION:2.0
PRODID:-//PFWB - ECPv6.15.20//NONSGML v1.0//EN
CALSCALE:GREGORIAN
METHOD:PUBLISH
X-WR-CALNAME:PFWB
X-ORIGINAL-URL:https://pfwb.org
X-WR-CALDESC:Events for PFWB
REFRESH-INTERVAL;VALUE=DURATION:PT1H
X-Robots-Tag:noindex
X-PUBLISHED-TTL:PT1H
BEGIN:VTIMEZONE
TZID:America/Chicago
BEGIN:DAYLIGHT
TZOFFSETFROM:-0600
TZOFFSETTO:-0500
TZNAME:CDT
DTSTART:20160313T080000
END:DAYLIGHT
BEGIN:STANDARD
TZOFFSETFROM:-0500
TZOFFSETTO:-0600
TZNAME:CST
DTSTART:20161106T070000
END:STANDARD
BEGIN:DAYLIGHT
TZOFFSETFROM:-0600
TZOFFSETTO:-0500
TZNAME:CDT
DTSTART:20170312T080000
END:DAYLIGHT
BEGIN:STANDARD
TZOFFSETFROM:-0500
TZOFFSETTO:-0600
TZNAME:CST
DTSTART:20171105T070000
END:STANDARD
BEGIN:DAYLIGHT
TZOFFSETFROM:-0600
TZOFFSETTO:-0500
TZNAME:CDT
DTSTART:20180311T080000
END:DAYLIGHT
BEGIN:STANDARD
TZOFFSETFROM:-0500
TZOFFSETTO:-0600
TZNAME:CST
DTSTART:20181104T070000
END:STANDARD
BEGIN:DAYLIGHT
TZOFFSETFROM:-0600
TZOFFSETTO:-0500
TZNAME:CDT
DTSTART:20190310T080000
END:DAYLIGHT
BEGIN:STANDARD
TZOFFSETFROM:-0500
TZOFFSETTO:-0600
TZNAME:CST
DTSTART:20191103T070000
END:STANDARD
END:VTIMEZONE
BEGIN:VEVENT
DTSTART;TZID=America/Chicago:20180120T090000
DTEND;TZID=America/Chicago:20180120T160000
DTSTAMP:20260419T125432
CREATED:20171013T154535Z
LAST-MODIFIED:20171204T153022Z
UID:2641-1516438800-1516464000@pfwb.org
SUMMARY:Healthy Church Conference '18
DESCRIPTION:If you serve in ministries like: \nPastoral Leadership\, Pastor’s Wife\, Children’s Ministry\, Middle & High School Ministry\, Hispanic Ministry\, Worship\, Discipleship\, Church Administration\, Ushers/Greeters\, Church Security\, Church Marketing or Audio/Visual \n…then this conference is for you! \nGuest presenters will lead a variety of workshops. Exhibitors & Vendors will be on hand with resources\, products\, and information for all your ministry needs. \nDoors open and check-in begins at 8:30am.  Fees collected at check-in (cash or check). Lunch will be provided. \nCost: \n$15.00 (Early Bird: BEFORE January 5th) \n$20.00 (AFTER January 5th/At the Door) \n$10.00 (Licensed Ministers)
URL:https://pfwb.org/event/healthy-church-conference-2018/
LOCATION:PFWB Tabernacle\, 1107 Long Branch Road\, Dunn\, NC\, 28334\, United States
CATEGORIES:Conferences,Discipleship Events,Hispanic Ministry,Ministers' Wives,Missions Events,Pastor's Wife,Pastors Events,Pastors' Wives,Royal Rangers,Student Ministry,Youth Events
ATTACH;FMTTYPE=image/png:https://pfwb.org/wp-content/uploads/2017/10/Logo_No_BG-1.png
END:VEVENT
BEGIN:VEVENT
DTSTART;VALUE=DATE:20171110
DTEND;VALUE=DATE:20171112
DTSTAMP:20260419T125432
CREATED:20171018T115611Z
LAST-MODIFIED:20171018T115753Z
UID:2884-1510272000-1510444799@pfwb.org
SUMMARY:World Class Outpost
DESCRIPTION:If you are working on your OLAL advancements\, you need this to achieve the Master rating.  This day and 1/2 course is for your leadership team including your pastor.   
URL:https://pfwb.org/event/world-class-outpost/
LOCATION:Concord\, NC
CATEGORIES:Royal Rangers
ATTACH;FMTTYPE=image/jpeg:https://pfwb.org/wp-content/uploads/2017/10/RoyalRangers.jpg
END:VEVENT
BEGIN:VEVENT
DTSTART;TZID=America/Chicago:20171027T150000
DTEND;TZID=America/Chicago:20171029T143000
DTSTAMP:20260419T125432
CREATED:20171018T120851Z
LAST-MODIFIED:20171018T120851Z
UID:2890-1509116400-1509287400@pfwb.org
SUMMARY:Royal Ranger Rally
DESCRIPTION:Brown Summit is a great facility with many activities\, worship time and fellowship available. \nThe theme for this Rally is “United In Worship”. The Rally (previously named Pow-wow)\nis held every four (4) years and will also be the catalyst for many more joint activities and training with all Royal Rangers and other Boys’ Ministries of North Carolina regardless of Denomination affiliation. \nThe weekend is filled with fellowship\, activities and most of all encountering God. \nFor more info and registrations forms\, click on link below: \nRoyal Ranger Rally Info
URL:https://pfwb.org/event/royal-ranger-rally/
LOCATION:Brown Summit\, NC\, 7545 Highway 29\, Brown Summit\, NC\, United States
CATEGORIES:Royal Rangers
ATTACH;FMTTYPE=image/jpeg:https://pfwb.org/wp-content/uploads/2017/10/RoyalRangers.jpg
END:VEVENT
END:VCALENDAR