BEGIN:VCALENDAR
VERSION:2.0
PRODID:-//PFWB - ECPv6.15.20//NONSGML v1.0//EN
CALSCALE:GREGORIAN
METHOD:PUBLISH
X-ORIGINAL-URL:https://pfwb.org
X-WR-CALDESC:Events for PFWB
REFRESH-INTERVAL;VALUE=DURATION:PT1H
X-Robots-Tag:noindex
X-PUBLISHED-TTL:PT1H
BEGIN:VTIMEZONE
TZID:America/New_York
BEGIN:DAYLIGHT
TZOFFSETFROM:-0500
TZOFFSETTO:-0400
TZNAME:EDT
DTSTART:20220313T070000
END:DAYLIGHT
BEGIN:STANDARD
TZOFFSETFROM:-0400
TZOFFSETTO:-0500
TZNAME:EST
DTSTART:20221106T060000
END:STANDARD
BEGIN:DAYLIGHT
TZOFFSETFROM:-0500
TZOFFSETTO:-0400
TZNAME:EDT
DTSTART:20230312T070000
END:DAYLIGHT
BEGIN:STANDARD
TZOFFSETFROM:-0400
TZOFFSETTO:-0500
TZNAME:EST
DTSTART:20231105T060000
END:STANDARD
BEGIN:DAYLIGHT
TZOFFSETFROM:-0500
TZOFFSETTO:-0400
TZNAME:EDT
DTSTART:20240310T070000
END:DAYLIGHT
BEGIN:STANDARD
TZOFFSETFROM:-0400
TZOFFSETTO:-0500
TZNAME:EST
DTSTART:20241103T060000
END:STANDARD
BEGIN:DAYLIGHT
TZOFFSETFROM:-0500
TZOFFSETTO:-0400
TZNAME:EDT
DTSTART:20250309T070000
END:DAYLIGHT
BEGIN:STANDARD
TZOFFSETFROM:-0400
TZOFFSETTO:-0500
TZNAME:EST
DTSTART:20251102T060000
END:STANDARD
BEGIN:DAYLIGHT
TZOFFSETFROM:-0500
TZOFFSETTO:-0400
TZNAME:EDT
DTSTART:20260308T070000
END:DAYLIGHT
BEGIN:STANDARD
TZOFFSETFROM:-0400
TZOFFSETTO:-0500
TZNAME:EST
DTSTART:20261101T060000
END:STANDARD
BEGIN:DAYLIGHT
TZOFFSETFROM:-0500
TZOFFSETTO:-0400
TZNAME:EDT
DTSTART:20270314T070000
END:DAYLIGHT
BEGIN:STANDARD
TZOFFSETFROM:-0400
TZOFFSETTO:-0500
TZNAME:EST
DTSTART:20271107T060000
END:STANDARD
END:VTIMEZONE
BEGIN:VEVENT
DTSTART;VALUE=DATE:20231201
DTEND;VALUE=DATE:20231204
DTSTAMP:20260425T234321
CREATED:20230206T200501Z
LAST-MODIFIED:20230206T200501Z
UID:8386-1701388800-1701647999@pfwb.org
SUMMARY:Royal Rangers FCF Christmas on the Mountain
DESCRIPTION:December 1-3\, 2023 at Carrol Meadows \nFor more information or to register contact\nPhillip Williams at helpingheart.fcf@gmail.com.
URL:https://pfwb.org/event/royal-rangers-fcf-christmas-on-the-mountain/
CATEGORIES:Royal Rangers
ATTACH;FMTTYPE=image/png:https://ing-ingage.s3.amazonaws.com/pfwb/2023/02/06143354/Royal-Rangers-Logo.png
END:VEVENT
BEGIN:VEVENT
DTSTART;VALUE=DATE:20240223
DTEND;VALUE=DATE:20240226
DTSTAMP:20260425T234321
CREATED:20240111T200314Z
LAST-MODIFIED:20240122T185239Z
UID:9083-1708646400-1708905599@pfwb.org
SUMMARY:RR FCF Spring Trace
DESCRIPTION:RR FCF Spring Trace at Falcon\, NC\n\nFebruary 23-25\, 2024 \n\nFor more information about any of the above events please contact \nContact Commander Phillip Williams for more info on Royal Rangers: \nPhillip Williams  – 910.324.3868 or helpingheart.fcf@gmail.com \n 
URL:https://pfwb.org/event/rr-fcf-spring-trace/
CATEGORIES:Royal Rangers
ATTACH;FMTTYPE=image/jpeg:https://pfwb.org/wp-content/uploads/2017/10/RoyalRangers.jpg
END:VEVENT
BEGIN:VEVENT
DTSTART;VALUE=DATE:20240308
DTEND;VALUE=DATE:20240310
DTSTAMP:20260425T234321
CREATED:20240111T200430Z
LAST-MODIFIED:20240122T185309Z
UID:9085-1709856000-1710028799@pfwb.org
SUMMARY:RR Regional Conference
DESCRIPTION:RR Regional Conference\n\nMarch 8-9\, 2024\nLake City\, SC \n\nFor more information contact \nContact Commander Phillip Williams \n910.324.3868 or helpingheart.fcf@gmail.com \n 
URL:https://pfwb.org/event/rr-regional-conference/
CATEGORIES:Royal Rangers
ATTACH;FMTTYPE=image/jpeg:https://pfwb.org/wp-content/uploads/2017/10/RoyalRangers.jpg
END:VEVENT
BEGIN:VEVENT
DTSTART;VALUE=DATE:20240426
DTEND;VALUE=DATE:20240429
DTSTAMP:20260425T234321
CREATED:20240111T200544Z
LAST-MODIFIED:20240122T185334Z
UID:9087-1714089600-1714348799@pfwb.org
SUMMARY:RR NC District Pow Wow
DESCRIPTION:RR NC District Pow Wow\n\nApril 26-28\, 2024\nBostic\, NC \n\nFor more information  contact \nContact Commander Phillip Williams \n910.324.3868 or helpingheart.fcf@gmail.com \n 
URL:https://pfwb.org/event/rr-nc-district-pow-wow/
CATEGORIES:Royal Rangers
ATTACH;FMTTYPE=image/jpeg:https://pfwb.org/wp-content/uploads/2017/10/RoyalRangers.jpg
END:VEVENT
BEGIN:VEVENT
DTSTART;VALUE=DATE:20241011
DTEND;VALUE=DATE:20241014
DTSTAMP:20260425T234321
CREATED:20240821T174853Z
LAST-MODIFIED:20240821T174853Z
UID:9462-1728604800-1728863999@pfwb.org
SUMMARY:Royal Rangers POW WOW
DESCRIPTION:Join the Royal Rangers at CYC for their annual Pow Wow.  \nOctober 11 – 13\, 2024 \nMore details coming soon! \n REGISTER BELOW! 
URL:https://pfwb.org/event/royal-rangers-pow-wow-2/
CATEGORIES:Royal Rangers
ATTACH;FMTTYPE=image/png:https://ing-ingage.s3.amazonaws.com/pfwb/2023/02/06143354/Royal-Rangers-Logo.png
END:VEVENT
BEGIN:VEVENT
DTSTART;VALUE=DATE:20250425
DTEND;VALUE=DATE:20250428
DTSTAMP:20260425T234321
CREATED:20250415T175421Z
LAST-MODIFIED:20250415T175702Z
UID:9889-1745539200-1745798399@pfwb.org
SUMMARY:RR Combined Spring Pow-Wow
DESCRIPTION:ROYAL RANGERS\nIPHC NC Conference and PFWB Combined Spring Pow-Wow\n\nApril 25-27\, 2025 \nLocation: Camp Freedom\nFalcon\, NC \n CLICK HERE TO REGISTER 
URL:https://pfwb.org/event/rr-combined-spring-pow-wow/
CATEGORIES:Royal Rangers
ATTACH;FMTTYPE=image/png:https://ing-ingage.s3.amazonaws.com/pfwb/2023/02/06143354/Royal-Rangers-Logo.png
END:VEVENT
BEGIN:VEVENT
DTSTART;VALUE=DATE:20250606
DTEND;VALUE=DATE:20250608
DTSTAMP:20260425T234321
CREATED:20250415T175623Z
LAST-MODIFIED:20250415T175623Z
UID:9891-1749168000-1749340799@pfwb.org
SUMMARY:
DESCRIPTION:RANGER KIDS\, DAISIES & PRIMS FIELD DAY\n\nJune 6-7\, 2025 \nLocation: Browns Summit\, NC
URL:https://pfwb.org/event/9891/
CATEGORIES:Royal Rangers
ATTACH;FMTTYPE=image/png:https://ing-ingage.s3.amazonaws.com/pfwb/2023/02/06143354/Royal-Rangers-Logo.png
END:VEVENT
BEGIN:VEVENT
DTSTART;TZID=America/New_York:20260718T090000
DTEND;TZID=America/New_York:20260718T130000
DTSTAMP:20260425T234321
CREATED:20260305T182610Z
LAST-MODIFIED:20260305T155744Z
UID:9093-1784365200-1784379600@pfwb.org
SUMMARY:Royal Rangers 2026 Cardboard Boat Regatta
DESCRIPTION:July 18\, 2026\n9:00am\nCabin Lake\, 220 Cabin Lake Road\, Pink Hill\, NC 28572 \n\n\n\n\nThis event is for anyone that would like to build a boat & race\, or just to watch.\nThat’s boys\, girls\, men and women of all ages. (ages 5 and up please) \nRegistration will begin at 9:00 am at the table near the bath house at the beach. \nThe cost is $10.00 per person and must be paid at the registration table the day of the event.\nThis price includes registration fee\, entry fee to the park for the day and lunch (that will be served after the race).\nRacers will receive a patch. \nHere are the rules: \n\n1) Boats must be built using only cardboard and duct tape.  Paint is ok.\n2) 2 persons per boat\n3) Any kind of paddle is ok\n4) All boaters must wear an approved personal floatation device. \nThat’s it!\n\n REGISTER BELOW 
URL:https://pfwb.org/event/rr-2026-cardboard-boat-regatta/
CATEGORIES:Royal Rangers,Student Ministry
ATTACH;FMTTYPE=image/png:https://ing-ingage.s3.amazonaws.com/pfwb/2023/02/06143354/Royal-Rangers-Logo.png
END:VEVENT
BEGIN:VEVENT
DTSTART;VALUE=DATE:20261003
DTEND;VALUE=DATE:20261004
DTSTAMP:20260425T234321
CREATED:20260304T183519Z
LAST-MODIFIED:20260421T173635Z
UID:9096-1790985600-1791071999@pfwb.org
SUMMARY:2026 Royal Rangers CO2 Race
DESCRIPTION:October 3\, 2026 \nLocation: Pathway PFWB Church\n275 N. NC Hwy 41\, Beulaville\, NC 28518 \nRegistration opens at 8:30am with racing to follow \nCost: $10.00 per person\n(Includes CO2 Cartridges and Lunch) \n REGISTER BELOW  \n\n RULES  \nOVERVIEW \nParticipants design\, produce a working drawing for\, and build a CO2-powered dragster according to stated specifications and using only certain materials. Cars can be purchased through https://www.whiteboxlearning.com/products/item/WDR-DK4 each kit is $4.45 and needs to be BASSWOOD (Do not use BALSA) \nCO2 tanks can be purchased through White box learning (only purchase 8 gram tanks) (https://www.whiteboxlearning.com/products/item/WDR-CO1) they cost $0.65 ea. unless you buy more than ten then the price changes. \n  \nELIGIBILITY \nParticipants are limited to one (1) entry per individual. \n  \nPROCEDURE \n\nParticipants check in their entries upon arrival.\nEntries are reviewed by evaluators to determine\, among other things\, safety on the track and specifications.\nEach Car will be given a number for tracking purposes.\nIt is essential that Rangers and Leaders routinely check the Cars for safety.\n\n  \nREGULATIONS \nDragsters that do not meet the below Specifications/Tolerances are disqualified from the race. \n  \nDragster body \n\nAll Cars must be all-wood construction; any type of lamination that isn’t attached by glue or other secure means will result in disqualification.\nCars are allowed to be painted and have decals on them.\n\n  \nMINIMUM – MAXIMUM \n\nBody length………. 241.3mm (9.500in)……….304.8mm (12in)\nBody height with wheels……….81.3mm (3.200in)\nBody width can’t exceed (this is including all laminations and wheels)……….101.6mm (4.00in)\n\n  \nAxles/axle holes/wheelbase \n\nDragsters must have two (2) axles per car\, no more.\nBottom of axle hole or bearing above bottom of car body.\n(NOTE: This will be measured at the sides of the wood car body\, from the bottom of the car directly beneath the axle to the bottom of the axle hole or bearing hole.)\nBearings\, bushings and lubricants may be used.\nGlue may be used to secure bearings to body.\n\n  \nScrew eyes \n\nDragsters must have two (2) screw eyes (no more) per car that meet tolerances. Screw eyes must not make contact with the racing surface. The track string must pass through both screw eyelets\, which are located on the center line of the bottom of the car. Glue may be used to reinforce the screw eyes. It is the responsibility of the car designer/ engineer to see that the screw eye holes are tightly closed to prevent the track string from slipping out. As with all adjustments\, this must be done prior to event check-in.\n\n  \nWheels \n\nA dragster must have four (4) wheels\n\n Only raceable cars\, as determined by the evaluators\, are allowed to compete in the semifinalist category. Cars that are damaged or broken during the qualifying round are deemed non‑raceable and are not allowed to run in a semifinalist position. Eliminated entries not meeting specifications are removed. \n\nFor more information or to register contact\nSheldon Rowser at sheldonleerowser@gmail.com
URL:https://pfwb.org/event/2026-royal-rangers-co2-race/
CATEGORIES:Royal Rangers,Student Ministry
ATTACH;FMTTYPE=image/png:https://ing-ingage.s3.amazonaws.com/pfwb/2023/02/06143354/Royal-Rangers-Logo.png
END:VEVENT
END:VCALENDAR