BEGIN:VCALENDAR
VERSION:2.0
PRODID:-//PFWB - ECPv6.15.20//NONSGML v1.0//EN
CALSCALE:GREGORIAN
METHOD:PUBLISH
X-ORIGINAL-URL:https://pfwb.org
X-WR-CALDESC:Events for PFWB
REFRESH-INTERVAL;VALUE=DURATION:PT1H
X-Robots-Tag:noindex
X-PUBLISHED-TTL:PT1H
BEGIN:VTIMEZONE
TZID:America/New_York
BEGIN:DAYLIGHT
TZOFFSETFROM:-0500
TZOFFSETTO:-0400
TZNAME:EDT
DTSTART:20230312T070000
END:DAYLIGHT
BEGIN:STANDARD
TZOFFSETFROM:-0400
TZOFFSETTO:-0500
TZNAME:EST
DTSTART:20231105T060000
END:STANDARD
BEGIN:DAYLIGHT
TZOFFSETFROM:-0500
TZOFFSETTO:-0400
TZNAME:EDT
DTSTART:20240310T070000
END:DAYLIGHT
BEGIN:STANDARD
TZOFFSETFROM:-0400
TZOFFSETTO:-0500
TZNAME:EST
DTSTART:20241103T060000
END:STANDARD
BEGIN:DAYLIGHT
TZOFFSETFROM:-0500
TZOFFSETTO:-0400
TZNAME:EDT
DTSTART:20250309T070000
END:DAYLIGHT
BEGIN:STANDARD
TZOFFSETFROM:-0400
TZOFFSETTO:-0500
TZNAME:EST
DTSTART:20251102T060000
END:STANDARD
END:VTIMEZONE
BEGIN:VEVENT
DTSTART;VALUE=DATE:20241011
DTEND;VALUE=DATE:20241014
DTSTAMP:20260422T055809
CREATED:20240821T174853Z
LAST-MODIFIED:20240821T174853Z
UID:9462-1728604800-1728863999@pfwb.org
SUMMARY:Royal Rangers POW WOW
DESCRIPTION:Join the Royal Rangers at CYC for their annual Pow Wow.  \nOctober 11 – 13\, 2024 \nMore details coming soon! \n REGISTER BELOW! 
URL:https://pfwb.org/event/royal-rangers-pow-wow-2/
CATEGORIES:Royal Rangers
ATTACH;FMTTYPE=image/png:https://ing-ingage.s3.amazonaws.com/pfwb/2023/02/06143354/Royal-Rangers-Logo.png
END:VEVENT
END:VCALENDAR