BEGIN:VCALENDAR
VERSION:2.0
PRODID:-//PFWB - ECPv6.15.20//NONSGML v1.0//EN
CALSCALE:GREGORIAN
METHOD:PUBLISH
X-WR-CALNAME:PFWB
X-ORIGINAL-URL:https://pfwb.org
X-WR-CALDESC:Events for PFWB
REFRESH-INTERVAL;VALUE=DURATION:PT1H
X-Robots-Tag:noindex
X-PUBLISHED-TTL:PT1H
BEGIN:VTIMEZONE
TZID:America/New_York
BEGIN:DAYLIGHT
TZOFFSETFROM:-0500
TZOFFSETTO:-0400
TZNAME:EDT
DTSTART:20220313T070000
END:DAYLIGHT
BEGIN:STANDARD
TZOFFSETFROM:-0400
TZOFFSETTO:-0500
TZNAME:EST
DTSTART:20221106T060000
END:STANDARD
BEGIN:DAYLIGHT
TZOFFSETFROM:-0500
TZOFFSETTO:-0400
TZNAME:EDT
DTSTART:20230312T070000
END:DAYLIGHT
BEGIN:STANDARD
TZOFFSETFROM:-0400
TZOFFSETTO:-0500
TZNAME:EST
DTSTART:20231105T060000
END:STANDARD
BEGIN:DAYLIGHT
TZOFFSETFROM:-0500
TZOFFSETTO:-0400
TZNAME:EDT
DTSTART:20240310T070000
END:DAYLIGHT
BEGIN:STANDARD
TZOFFSETFROM:-0400
TZOFFSETTO:-0500
TZNAME:EST
DTSTART:20241103T060000
END:STANDARD
END:VTIMEZONE
BEGIN:VEVENT
DTSTART;VALUE=DATE:20230909
DTEND;VALUE=DATE:20230910
DTSTAMP:20260425T162013
CREATED:20230206T195636Z
LAST-MODIFIED:20230206T195636Z
UID:8373-1694217600-1694303999@pfwb.org
SUMMARY:Royal Rangers Field Day
DESCRIPTION:IPHC Eastern Ranger Kids Field Day \nSeptember 9\, 2023\nCamp Freedom\nFalcon\, NC \nFor more information or to register contact\nPhillip Williams at helpingheart.fcf@gmail.com.
URL:https://pfwb.org/event/royal-rangers-field-day/
CATEGORIES:Royal Rangers
ATTACH;FMTTYPE=image/png:https://ing-ingage.s3.amazonaws.com/pfwb/2023/02/06143354/Royal-Rangers-Logo.png
END:VEVENT
BEGIN:VEVENT
DTSTART;VALUE=DATE:20230923
DTEND;VALUE=DATE:20230924
DTSTAMP:20260425T162013
CREATED:20230206T195519Z
LAST-MODIFIED:20230807T194335Z
UID:8371-1695427200-1695513599@pfwb.org
SUMMARY:Royal Rangers Co2 Race
DESCRIPTION:Royal Rangers CO2 Race \nSeptember 23\, 2023 \nLocation: Pathway PFWB Church\n275 N. NC Hwy 41\, Beulaville\, NC 28518 \nRegistration opens at 9:00am with racing to follow \nCost: $10.00 per person\n(Includes CO2 Cartridges and Lunch) \nREGISTER BELOW \nFor more information or to register contact\nPhillip Williams at helpingheart.fcf@gmail.com.
URL:https://pfwb.org/event/royal-rangers-co2-race/
CATEGORIES:Royal Rangers
ATTACH;FMTTYPE=image/png:https://ing-ingage.s3.amazonaws.com/pfwb/2023/02/06143354/Royal-Rangers-Logo.png
END:VEVENT
END:VCALENDAR