BEGIN:VCALENDAR
VERSION:2.0
PRODID:-//PFWB - ECPv6.15.20//NONSGML v1.0//EN
CALSCALE:GREGORIAN
METHOD:PUBLISH
X-ORIGINAL-URL:https://pfwb.org
X-WR-CALDESC:Events for PFWB
REFRESH-INTERVAL;VALUE=DURATION:PT1H
X-Robots-Tag:noindex
X-PUBLISHED-TTL:PT1H
BEGIN:VTIMEZONE
TZID:America/New_York
BEGIN:DAYLIGHT
TZOFFSETFROM:-0500
TZOFFSETTO:-0400
TZNAME:EDT
DTSTART:20220313T070000
END:DAYLIGHT
BEGIN:STANDARD
TZOFFSETFROM:-0400
TZOFFSETTO:-0500
TZNAME:EST
DTSTART:20221106T060000
END:STANDARD
BEGIN:DAYLIGHT
TZOFFSETFROM:-0500
TZOFFSETTO:-0400
TZNAME:EDT
DTSTART:20230312T070000
END:DAYLIGHT
BEGIN:STANDARD
TZOFFSETFROM:-0400
TZOFFSETTO:-0500
TZNAME:EST
DTSTART:20231105T060000
END:STANDARD
BEGIN:DAYLIGHT
TZOFFSETFROM:-0500
TZOFFSETTO:-0400
TZNAME:EDT
DTSTART:20240310T070000
END:DAYLIGHT
BEGIN:STANDARD
TZOFFSETFROM:-0400
TZOFFSETTO:-0500
TZNAME:EST
DTSTART:20241103T060000
END:STANDARD
END:VTIMEZONE
BEGIN:VEVENT
DTSTART;VALUE=DATE:20230711
DTEND;VALUE=DATE:20230716
DTSTAMP:20260425T205406
CREATED:20230206T195128Z
LAST-MODIFIED:20230206T195128Z
UID:8365-1689033600-1689465599@pfwb.org
SUMMARY:Royal Rangers National Camporama
DESCRIPTION:IPHC National Camporama \nJuly 11-15\, 2023 at Brown Summit \nFor more information or to register contact\nPhillip Williams at helpingheart.fcf@gmail.com.
URL:https://pfwb.org/event/royal-rangers-national-camporama/
CATEGORIES:Royal Rangers
ATTACH;FMTTYPE=image/png:https://ing-ingage.s3.amazonaws.com/pfwb/2023/02/06143354/Royal-Rangers-Logo.png
END:VEVENT
BEGIN:VEVENT
DTSTART;VALUE=DATE:20230722
DTEND;VALUE=DATE:20230723
DTSTAMP:20260425T205406
CREATED:20230206T195302Z
LAST-MODIFIED:20230605T204714Z
UID:8367-1689984000-1690070399@pfwb.org
SUMMARY:Royal Rangers Cardboard Boat Regatta
DESCRIPTION:Royal Rangers 11th Annual Cardboard Boat Regatta \nJuly 22\, 2023 @ 9:00am \nCabin Lake\n220 Cabin Lake Road\nPink Hill\, NC 28572 \nThis event is for anyone that would like to build a boat & race\, or just to watch.\nThat’s boys\, girls\, men and women of all ages. (ages 5 and up please) \nRegistration will begin at 9:00 am at the table near the bath house at the beach. \nThe cost is $8.00 per person and must be paid at the registration table the day of the event.\nThis price includes registration fee\, entry fee to the park for the day and lunch (that will be served after the race).\nRacers will receive a patch. \nHere are the rules: \n\n1) Boats must be built using only cardboard and duct tape.  Paint is ok.\n2) 2 persons per boat\n3) Any kind of paddle is ok\n4) All boaters must wear an approved personal floatation device. \nThat’s it!\n\n\n REGISTER BELOW  \nFor questions\, please contact Phillip Williams at helpingheart.fcf@gmail.com
URL:https://pfwb.org/event/royal-rangers-cardboard-boat-regatta-2/
CATEGORIES:Royal Rangers
ATTACH;FMTTYPE=image/png:https://ing-ingage.s3.amazonaws.com/pfwb/2023/02/06143354/Royal-Rangers-Logo.png
END:VEVENT
BEGIN:VEVENT
DTSTART;VALUE=DATE:20230731
DTEND;VALUE=DATE:20230806
DTSTAMP:20260425T205406
CREATED:20230206T195419Z
LAST-MODIFIED:20230206T195419Z
UID:8369-1690761600-1691279999@pfwb.org
SUMMARY:Royal Rangers Training Academy
DESCRIPTION:July 31 – August 5\, 2023\nCrusader Youth Camp\nDunn\, NC \nFor more information or to register contact\nPhillip Williams at helpingheart.fcf@gmail.com.
URL:https://pfwb.org/event/royal-rangers-training-academy/
CATEGORIES:Royal Rangers
ATTACH;FMTTYPE=image/png:https://ing-ingage.s3.amazonaws.com/pfwb/2023/02/06143354/Royal-Rangers-Logo.png
END:VEVENT
END:VCALENDAR