BEGIN:VCALENDAR
VERSION:2.0
PRODID:-//PFWB - ECPv6.15.20//NONSGML v1.0//EN
CALSCALE:GREGORIAN
METHOD:PUBLISH
X-ORIGINAL-URL:https://pfwb.org
X-WR-CALDESC:Events for PFWB
REFRESH-INTERVAL;VALUE=DURATION:PT1H
X-Robots-Tag:noindex
X-PUBLISHED-TTL:PT1H
BEGIN:VTIMEZONE
TZID:America/New_York
BEGIN:DAYLIGHT
TZOFFSETFROM:-0500
TZOFFSETTO:-0400
TZNAME:EDT
DTSTART:20170312T070000
END:DAYLIGHT
BEGIN:STANDARD
TZOFFSETFROM:-0400
TZOFFSETTO:-0500
TZNAME:EST
DTSTART:20171105T060000
END:STANDARD
BEGIN:DAYLIGHT
TZOFFSETFROM:-0500
TZOFFSETTO:-0400
TZNAME:EDT
DTSTART:20180311T070000
END:DAYLIGHT
BEGIN:STANDARD
TZOFFSETFROM:-0400
TZOFFSETTO:-0500
TZNAME:EST
DTSTART:20181104T060000
END:STANDARD
BEGIN:DAYLIGHT
TZOFFSETFROM:-0500
TZOFFSETTO:-0400
TZNAME:EDT
DTSTART:20190310T070000
END:DAYLIGHT
BEGIN:STANDARD
TZOFFSETFROM:-0400
TZOFFSETTO:-0500
TZNAME:EST
DTSTART:20191103T060000
END:STANDARD
BEGIN:DAYLIGHT
TZOFFSETFROM:-0500
TZOFFSETTO:-0400
TZNAME:EDT
DTSTART:20200308T070000
END:DAYLIGHT
BEGIN:STANDARD
TZOFFSETFROM:-0400
TZOFFSETTO:-0500
TZNAME:EST
DTSTART:20201101T060000
END:STANDARD
END:VTIMEZONE
BEGIN:VTIMEZONE
TZID:America/Chicago
BEGIN:DAYLIGHT
TZOFFSETFROM:-0600
TZOFFSETTO:-0500
TZNAME:CDT
DTSTART:20160313T080000
END:DAYLIGHT
BEGIN:STANDARD
TZOFFSETFROM:-0500
TZOFFSETTO:-0600
TZNAME:CST
DTSTART:20161106T070000
END:STANDARD
BEGIN:DAYLIGHT
TZOFFSETFROM:-0600
TZOFFSETTO:-0500
TZNAME:CDT
DTSTART:20170312T080000
END:DAYLIGHT
BEGIN:STANDARD
TZOFFSETFROM:-0500
TZOFFSETTO:-0600
TZNAME:CST
DTSTART:20171105T070000
END:STANDARD
BEGIN:DAYLIGHT
TZOFFSETFROM:-0600
TZOFFSETTO:-0500
TZNAME:CDT
DTSTART:20180311T080000
END:DAYLIGHT
BEGIN:STANDARD
TZOFFSETFROM:-0500
TZOFFSETTO:-0600
TZNAME:CST
DTSTART:20181104T070000
END:STANDARD
BEGIN:DAYLIGHT
TZOFFSETFROM:-0600
TZOFFSETTO:-0500
TZNAME:CDT
DTSTART:20190310T080000
END:DAYLIGHT
BEGIN:STANDARD
TZOFFSETFROM:-0500
TZOFFSETTO:-0600
TZNAME:CST
DTSTART:20191103T070000
END:STANDARD
END:VTIMEZONE
BEGIN:VEVENT
DTSTART;TZID=America/New_York:20190126T090000
DTEND;TZID=America/New_York:20190126T150000
DTSTAMP:20260421T094833
CREATED:20190105T012454Z
LAST-MODIFIED:20190105T012454Z
UID:3790-1548493200-1548514800@pfwb.org
SUMMARY:Healthy Church Conference
DESCRIPTION:Devoted | One Word Makes the Difference.  \nThe early church made a difference in their day because of one word – Devoted. They were radically devoted to spiritual growth\, irrevocably committed to relational harmony\, and relentlessly dedicated to community outreach. They were DEVOTED. \nThink what a local church would look like if its people were radically devoted to Christ\, irrevocably committed to each other\, and relentlessly dedicated to reaching those outside God’s family with the gospel of Christ. It would be a church against which the gates of hell could not prevail!
URL:https://pfwb.org/event/healthy-church-conference/
LOCATION:PFWB Ministry Campus\, 1747 Bud Hawkins Road\, Dunn\, NC\, 28334\, United States
CATEGORIES:Conferences,Discipleship Events,Ministers' Wives,Missions Events,Pastors Events,Pastors' Wives,Royal Rangers,Student Ministry,Women's Ministry,Youth Events
END:VEVENT
BEGIN:VEVENT
DTSTART;VALUE=DATE:20180909
DTEND;VALUE=DATE:20180916
DTSTAMP:20260421T094833
CREATED:20171017T120605Z
LAST-MODIFIED:20171017T120605Z
UID:2773-1536451200-1537055999@pfwb.org
SUMMARY:PFWB Community "Impact" Week
DESCRIPTION:
URL:https://pfwb.org/event/pfwb-community-impact-week/
LOCATION:NC
CATEGORIES:Discipleship Events,Missions Events,Pastors Events,Youth Events
ATTACH;FMTTYPE=image/jpeg:https://pfwb.org/wp-content/uploads/2017/10/ImpactWeek_LogoOnly.jpg
END:VEVENT
BEGIN:VEVENT
DTSTART;TZID=America/New_York:20180505T080000
DTEND;TZID=America/New_York:20180505T170000
DTSTAMP:20260421T094834
CREATED:20180221T162709Z
LAST-MODIFIED:20180221T203015Z
UID:3320-1525507200-1525539600@pfwb.org
SUMMARY:Prayer Encounter '18
DESCRIPTION:Mission \nA prayer-evangelism vision and tools conference for pastors and prayer leaders providing training and\nresources to launch a movement of missional praying. \nKeynote Speakers\nPastor Carter Conlon (Times Square Church)\nPastor Doug Small (Prayer Chairman\, PCCNA)\nJeff Farmer (President\, PCCNA) \nWorkshops and Sessions: \nLearning sessions will be offered in six tracks: Pastor’s Track\, Prayer Leadership Track\, Intercessors Track\, Prayer Evangelism/Mission Track\, Children/Youth/Family Prayer and Personal Prayer/Prayer Models/Prayer Resources \nPotential workshops include: \nEstablishing a Prayer Dialogue in Your City\nSpiritual Mapping Simplified\nIf it is the Will of God\, Why do I have to Ask?\nPraying into the Harvest\nPrayer:  The Pastor’s Daily Sabbatical\nPathway of Prayer\nPrayer Life of an Intercessor – Understanding the Ministry of Intercession\nPraying Men\nOración De Alto Nivel/Higher Level Of Prayer\nLeadership that Prays\nRestoring and Understanding the Scriptural Context of Prayer\nTransformational Vision\nPriority of Prayer in a Pastor’s Life\nIt Only Takes a Spark\nRacial Unity – The power of unity in  diversity\nTransformational Leadership\nDeveloping Intimacy in Prayer\nLet the Children Pray\nBecoming a Loving Our Neighbors Congregation\nPraying from the Rooftop\nPraying With and For Your Children\nThe Power of Prevailing Prayer\nUniting Churches for Awakening\nThe Role of Strategic Prayer in World Missions\nPraying for Unreached People Groups\nBack to the Future: Exposing the Tactics of the Enemy to Destroy the Next Generation \nTentative Schedule:\nFRIDAY\n   7:00pm     Prayer Encounter\nSATURDAY\n   8:00am     Registration\n   8:30am     Welcome\n   8:45am     Plenary Session 1\n  10:00am     Workshops\n  11:00am     Plenary Session 2\n  12:00pm     Lunch w/ Simultaneous Workshops\n   1:45pm     Workshops\n   2:30pm     Plenary Session 3\n   4:00pm     Dismissal\n              (Youth Afterglow) \nEarly Bird Registration Cost \n$25 per person with additional $10 per person for lunch \nRegister online at https://pccnapray.org/registration-page/ \nSponsoring Denominations:\nPentecostal Free Will Baptist\nChurch of God of Prophecy\nThe Fellowship Network\nInternational Pentecostal Holiness Church\, NC Conference\nChurch of God\, Eastern NC\nAssemblies of God\, NC
URL:https://pfwb.org/event/prayer-encounter-18-2/
LOCATION:IPHC NC Conference\, 6754 East Street\, Falcon\, NC\, 28342\, United States
CATEGORIES:Conferences,Discipleship Events,Hispanic Ministry,Missions Events,Pastors Events,Pastors' Wives,Royal Rangers,Student Ministry,Women's Ministry,Youth Events
ATTACH;FMTTYPE=image/jpeg:https://ing-ingage.s3.amazonaws.com/pfwb/2018/02/21110836/JointPrayerConf_banner.jpg
END:VEVENT
BEGIN:VEVENT
DTSTART;TZID=America/New_York:20180504T190000
DTEND;TZID=America/New_York:20180504T210000
DTSTAMP:20260421T094834
CREATED:20180221T160846Z
LAST-MODIFIED:20180221T202835Z
UID:3313-1525460400-1525467600@pfwb.org
SUMMARY:Prayer Encounter '18
DESCRIPTION:Mission \nA prayer-evangelism vision and tools conference for pastors and prayer leaders providing training and\nresources to launch a movement of missional praying. \nKeynote Speakers\nPastor Carter Conlon (Times Square Church)\nPastor Doug Small (Prayer Chairman\, PCCNA)\nJeff Farmer (President\, PCCNA) \nWorkshops and Sessions: \nLearning sessions will be offered in six tracks: Pastor’s Track\, Prayer Leadership Track\, Intercessors Track\, Prayer Evangelism/Mission Track\, Children/Youth/Family Prayer and Personal Prayer/Prayer Models/Prayer Resources \nPotential workshops include: \nEstablishing a Prayer Dialogue in Your City\nSpiritual Mapping Simplified\nIf it is the Will of God\, Why do I have to Ask?\nPraying into the Harvest\nPrayer:  The Pastor’s Daily Sabbatical\nPathway of Prayer\nPrayer Life of an Intercessor – Understanding the Ministry of Intercession\nPraying Men\nOración De Alto Nivel/Higher Level Of Prayer\nLeadership that Prays\nRestoring and Understanding the Scriptural Context of Prayer\nTransformational Vision\nPriority of Prayer in a Pastor’s Life\nIt Only Takes a Spark\nRacial Unity – The power of unity in  diversity\nTransformational Leadership\nDeveloping Intimacy in Prayer\nLet the Children Pray\nBecoming a Loving Our Neighbors Congregation\nPraying from the Rooftop\nPraying With and For Your Children\nThe Power of Prevailing Prayer\nUniting Churches for Awakening\nThe Role of Strategic Prayer in World Missions\nPraying for Unreached People Groups\nBack to the Future: Exposing the Tactics of the Enemy to Destroy the Next Generation \nTentative Schedule:\nFRIDAY\n   7:00pm     Prayer Encounter\nSATURDAY\n   8:00am     Registration\n   8:30am     Welcome\n   8:45am     Plenary Session 1\n  10:00am     Workshops\n  11:00am     Plenary Session 2\n  12:00pm     Lunch w/ Simultaneous Workshops\n   1:45pm     Workshops\n   2:30pm     Plenary Session 3\n   4:00pm     Dismissal\n              (Youth Afterglow) \nEarly Bird Registration Cost \n$25 per person with additional $10 per person for lunch \nRegister online at https://pccnapray.org/registration-page/ \nSponsoring Denominations:\nPentecostal Free Will Baptist\nChurch of God of Prophecy\nThe Fellowship Network\nInternational Pentecostal Holiness Church\, NC Conference\nChurch of God\, Eastern NC\nAssemblies of God\, NC
URL:https://pfwb.org/event/prayer-encounter-18/
LOCATION:IPHC NC Conference\, 6754 East Street\, Falcon\, NC\, 28342\, United States
CATEGORIES:Conferences,Discipleship Events,Hispanic Ministry,Missions Events,Pastors Events,Pastors' Wives,Royal Rangers,Student Ministry,Women's Ministry,Youth Events
ATTACH;FMTTYPE=image/jpeg:https://ing-ingage.s3.amazonaws.com/pfwb/2018/02/21110836/JointPrayerConf_banner.jpg
END:VEVENT
BEGIN:VEVENT
DTSTART;TZID=America/Chicago:20180120T090000
DTEND;TZID=America/Chicago:20180120T160000
DTSTAMP:20260421T094834
CREATED:20171013T154535Z
LAST-MODIFIED:20171204T153022Z
UID:2641-1516438800-1516464000@pfwb.org
SUMMARY:Healthy Church Conference '18
DESCRIPTION:If you serve in ministries like: \nPastoral Leadership\, Pastor’s Wife\, Children’s Ministry\, Middle & High School Ministry\, Hispanic Ministry\, Worship\, Discipleship\, Church Administration\, Ushers/Greeters\, Church Security\, Church Marketing or Audio/Visual \n…then this conference is for you! \nGuest presenters will lead a variety of workshops. Exhibitors & Vendors will be on hand with resources\, products\, and information for all your ministry needs. \nDoors open and check-in begins at 8:30am.  Fees collected at check-in (cash or check). Lunch will be provided. \nCost: \n$15.00 (Early Bird: BEFORE January 5th) \n$20.00 (AFTER January 5th/At the Door) \n$10.00 (Licensed Ministers)
URL:https://pfwb.org/event/healthy-church-conference-2018/
LOCATION:PFWB Tabernacle\, 1107 Long Branch Road\, Dunn\, NC\, 28334\, United States
CATEGORIES:Conferences,Discipleship Events,Hispanic Ministry,Ministers' Wives,Missions Events,Pastor's Wife,Pastors Events,Pastors' Wives,Royal Rangers,Student Ministry,Youth Events
ATTACH;FMTTYPE=image/png:https://pfwb.org/wp-content/uploads/2017/10/Logo_No_BG-1.png
END:VEVENT
BEGIN:VEVENT
DTSTART;VALUE=DATE:20171203
DTEND;VALUE=DATE:20171204
DTSTAMP:20260421T094834
CREATED:20171018T114824Z
LAST-MODIFIED:20171018T114824Z
UID:2882-1512259200-1512345599@pfwb.org
SUMMARY:Missions Sunday
DESCRIPTION:
URL:https://pfwb.org/event/missions-sunday-2/
LOCATION:NC
CATEGORIES:Missions Events
ATTACH;FMTTYPE=image/png:https://pfwb.org/wp-content/uploads/2017/10/Title-Slide.png
END:VEVENT
BEGIN:VEVENT
DTSTART;VALUE=DATE:20171105
DTEND;VALUE=DATE:20171106
DTSTAMP:20260421T094834
CREATED:20171018T114634Z
LAST-MODIFIED:20171018T114634Z
UID:2878-1509840000-1509926399@pfwb.org
SUMMARY:Missions Sunday
DESCRIPTION:
URL:https://pfwb.org/event/missions-sunday/
LOCATION:NC
CATEGORIES:Missions Events
ATTACH;FMTTYPE=image/png:https://pfwb.org/wp-content/uploads/2017/10/Title-Slide.png
END:VEVENT
END:VCALENDAR