BEGIN:VCALENDAR
VERSION:2.0
PRODID:-//PFWB - ECPv6.15.20//NONSGML v1.0//EN
CALSCALE:GREGORIAN
METHOD:PUBLISH
X-ORIGINAL-URL:https://pfwb.org
X-WR-CALDESC:Events for PFWB
REFRESH-INTERVAL;VALUE=DURATION:PT1H
X-Robots-Tag:noindex
X-PUBLISHED-TTL:PT1H
BEGIN:VTIMEZONE
TZID:America/Chicago
BEGIN:DAYLIGHT
TZOFFSETFROM:-0600
TZOFFSETTO:-0500
TZNAME:CDT
DTSTART:20170312T080000
END:DAYLIGHT
BEGIN:STANDARD
TZOFFSETFROM:-0500
TZOFFSETTO:-0600
TZNAME:CST
DTSTART:20171105T070000
END:STANDARD
BEGIN:DAYLIGHT
TZOFFSETFROM:-0600
TZOFFSETTO:-0500
TZNAME:CDT
DTSTART:20180311T080000
END:DAYLIGHT
BEGIN:STANDARD
TZOFFSETFROM:-0500
TZOFFSETTO:-0600
TZNAME:CST
DTSTART:20181104T070000
END:STANDARD
BEGIN:DAYLIGHT
TZOFFSETFROM:-0600
TZOFFSETTO:-0500
TZNAME:CDT
DTSTART:20190310T080000
END:DAYLIGHT
BEGIN:STANDARD
TZOFFSETFROM:-0500
TZOFFSETTO:-0600
TZNAME:CST
DTSTART:20191103T070000
END:STANDARD
END:VTIMEZONE
BEGIN:VEVENT
DTSTART;TZID=America/Chicago:20180514T080000
DTEND;TZID=America/Chicago:20180516T170000
DTSTAMP:20260421T222212
CREATED:20171016T211822Z
LAST-MODIFIED:20171016T211822Z
UID:2712-1526284800-1526490000@pfwb.org
SUMMARY:Camp Caleb
DESCRIPTION:
URL:https://pfwb.org/event/camp-caleb/
LOCATION:Crusader Youth Camp\, 1609 Bud Hawkins Road\, Dunn\, NC\, 28334\, United States
CATEGORIES:CYC
ATTACH;FMTTYPE=image/jpeg:https://pfwb.org/wp-content/uploads/2017/10/cyc-logo-official-high-resolution.jpg
END:VEVENT
BEGIN:VEVENT
DTSTART;TZID=America/Chicago:20180420T180000
DTEND;TZID=America/Chicago:20180421T120000
DTSTAMP:20260421T222212
CREATED:20171017T114441Z
LAST-MODIFIED:20171017T114441Z
UID:2759-1524247200-1524312000@pfwb.org
SUMMARY:CYC Staff & Counselor Training
DESCRIPTION:
URL:https://pfwb.org/event/cyc-staff-counselor-training/
LOCATION:Crusader Youth Camp\, 1609 Bud Hawkins Road\, Dunn\, NC\, 28334\, United States
CATEGORIES:CYC
ATTACH;FMTTYPE=image/jpeg:https://pfwb.org/wp-content/uploads/2017/10/cyc-logo-official-high-resolution.jpg
END:VEVENT
END:VCALENDAR