BEGIN:VCALENDAR
VERSION:2.0
PRODID:-//PFWB - ECPv6.15.20//NONSGML v1.0//EN
CALSCALE:GREGORIAN
METHOD:PUBLISH
X-ORIGINAL-URL:https://pfwb.org
X-WR-CALDESC:Events for PFWB
REFRESH-INTERVAL;VALUE=DURATION:PT1H
X-Robots-Tag:noindex
X-PUBLISHED-TTL:PT1H
BEGIN:VTIMEZONE
TZID:America/New_York
BEGIN:DAYLIGHT
TZOFFSETFROM:-0500
TZOFFSETTO:-0400
TZNAME:EDT
DTSTART:20180311T070000
END:DAYLIGHT
BEGIN:STANDARD
TZOFFSETFROM:-0400
TZOFFSETTO:-0500
TZNAME:EST
DTSTART:20181104T060000
END:STANDARD
BEGIN:DAYLIGHT
TZOFFSETFROM:-0500
TZOFFSETTO:-0400
TZNAME:EDT
DTSTART:20190310T070000
END:DAYLIGHT
BEGIN:STANDARD
TZOFFSETFROM:-0400
TZOFFSETTO:-0500
TZNAME:EST
DTSTART:20191103T060000
END:STANDARD
BEGIN:DAYLIGHT
TZOFFSETFROM:-0500
TZOFFSETTO:-0400
TZNAME:EDT
DTSTART:20200308T070000
END:DAYLIGHT
BEGIN:STANDARD
TZOFFSETFROM:-0400
TZOFFSETTO:-0500
TZNAME:EST
DTSTART:20201101T060000
END:STANDARD
END:VTIMEZONE
BEGIN:VTIMEZONE
TZID:America/Chicago
BEGIN:DAYLIGHT
TZOFFSETFROM:-0600
TZOFFSETTO:-0500
TZNAME:CDT
DTSTART:20170312T080000
END:DAYLIGHT
BEGIN:STANDARD
TZOFFSETFROM:-0500
TZOFFSETTO:-0600
TZNAME:CST
DTSTART:20171105T070000
END:STANDARD
BEGIN:DAYLIGHT
TZOFFSETFROM:-0600
TZOFFSETTO:-0500
TZNAME:CDT
DTSTART:20180311T080000
END:DAYLIGHT
BEGIN:STANDARD
TZOFFSETFROM:-0500
TZOFFSETTO:-0600
TZNAME:CST
DTSTART:20181104T070000
END:STANDARD
BEGIN:DAYLIGHT
TZOFFSETFROM:-0600
TZOFFSETTO:-0500
TZNAME:CDT
DTSTART:20190310T080000
END:DAYLIGHT
BEGIN:STANDARD
TZOFFSETFROM:-0500
TZOFFSETTO:-0600
TZNAME:CST
DTSTART:20191103T070000
END:STANDARD
BEGIN:DAYLIGHT
TZOFFSETFROM:-0600
TZOFFSETTO:-0500
TZNAME:CDT
DTSTART:20200308T080000
END:DAYLIGHT
BEGIN:STANDARD
TZOFFSETFROM:-0500
TZOFFSETTO:-0600
TZNAME:CST
DTSTART:20201101T070000
END:STANDARD
END:VTIMEZONE
BEGIN:VEVENT
DTSTART;VALUE=DATE:20190726
DTEND;VALUE=DATE:20190727
DTSTAMP:20260421T205225
CREATED:20190105T024453Z
LAST-MODIFIED:20190105T024453Z
UID:3909-1564099200-1564185599@pfwb.org
SUMMARY:Student Afterglow
DESCRIPTION:
URL:https://pfwb.org/event/student-afterglow/
LOCATION:Crusader Youth Camp\, 1609 Bud Hawkins Road\, Dunn\, NC\, 28334\, United States
CATEGORIES:CYC,Student Ministry,Youth Events
ATTACH;FMTTYPE=image/jpeg:https://ing-ingage.s3.amazonaws.com/pfwb/2019/01/04214438/afterglow.jpg
END:VEVENT
BEGIN:VEVENT
DTSTART;VALUE=DATE:20190707
DTEND;VALUE=DATE:20190713
DTSTAMP:20260421T205225
CREATED:20190105T023925Z
LAST-MODIFIED:20190105T023925Z
UID:3896-1562457600-1562975999@pfwb.org
SUMMARY:Crusader Youth Camp (High School)
DESCRIPTION:
URL:https://pfwb.org/event/crusader-youth-camp-high-school/
LOCATION:Crusader Youth Camp\, 1609 Bud Hawkins Road\, Dunn\, NC\, 28334\, United States
CATEGORIES:CYC
ATTACH;FMTTYPE=image/png:https://pfwb.org/wp-content/uploads/2017/10/cyc-logo-official-1500px.png
END:VEVENT
BEGIN:VEVENT
DTSTART;VALUE=DATE:20190630
DTEND;VALUE=DATE:20190706
DTSTAMP:20260421T205225
CREATED:20190105T023804Z
LAST-MODIFIED:20190105T023804Z
UID:3893-1561852800-1562371199@pfwb.org
SUMMARY:Crusader Youth Camp (Middle School)
DESCRIPTION:
URL:https://pfwb.org/event/crusader-youth-camp-middle-school/
CATEGORIES:CYC
ATTACH;FMTTYPE=image/png:https://pfwb.org/wp-content/uploads/2017/10/cyc-logo-official-1500px.png
END:VEVENT
BEGIN:VEVENT
DTSTART;VALUE=DATE:20190623
DTEND;VALUE=DATE:20190629
DTSTAMP:20260421T205225
CREATED:20190105T023716Z
LAST-MODIFIED:20190105T023839Z
UID:3891-1561248000-1561766399@pfwb.org
SUMMARY:Crusader Youth Camp (Elementary)
DESCRIPTION:
URL:https://pfwb.org/event/crusader-youth-camp-elementary-week/
LOCATION:Crusader Youth Camp\, 1609 Bud Hawkins Road\, Dunn\, NC\, 28334\, United States
CATEGORIES:CYC
ATTACH;FMTTYPE=image/png:https://pfwb.org/wp-content/uploads/2017/10/cyc-logo-official-1500px.png
END:VEVENT
BEGIN:VEVENT
DTSTART;VALUE=DATE:20190609
DTEND;VALUE=DATE:20190615
DTSTAMP:20260421T205225
CREATED:20190105T023501Z
LAST-MODIFIED:20190105T023501Z
UID:3887-1560038400-1560556799@pfwb.org
SUMMARY:Camp Friendship (Special Needs)
DESCRIPTION:
URL:https://pfwb.org/event/camp-friendship-special-needs/
LOCATION:Crusader Youth Camp\, 1609 Bud Hawkins Road\, Dunn\, NC\, 28334\, United States
CATEGORIES:CYC
ATTACH;FMTTYPE=image/png:https://pfwb.org/wp-content/uploads/2017/10/cyc-logo-official-1500px.png
END:VEVENT
BEGIN:VEVENT
DTSTART;VALUE=DATE:20190513
DTEND;VALUE=DATE:20190516
DTSTAMP:20260421T205225
CREATED:20190105T021641Z
LAST-MODIFIED:20190105T021651Z
UID:3868-1557705600-1557964799@pfwb.org
SUMMARY:Camp Caleb (Senior Adults)
DESCRIPTION:
URL:https://pfwb.org/event/camp-caleb-2/
LOCATION:Crusader Youth Camp\, 1609 Bud Hawkins Road\, Dunn\, NC\, 28334\, United States
CATEGORIES:CYC
ATTACH;FMTTYPE=image/png:https://pfwb.org/wp-content/uploads/2017/10/cyc-logo-official-1500px.png
END:VEVENT
BEGIN:VEVENT
DTSTART;TZID=America/New_York:20190405T173000
DTEND;TZID=America/New_York:20190407T120000
DTSTAMP:20260421T205225
CREATED:20190105T015022Z
LAST-MODIFIED:20190105T015022Z
UID:3830-1554485400-1554638400@pfwb.org
SUMMARY:The Surge (Elementary)
DESCRIPTION:This Co-Ed event is for Children’s Leaders and kids K-5. Enjoy a time of Worship|Food|Fun|Fellowship|Breakout Sessions.
URL:https://pfwb.org/event/the-surge-elementary/
LOCATION:Crusader Youth Camp\, 1609 Bud Hawkins Road\, Dunn\, NC\, 28334\, United States
CATEGORIES:Conferences,CYC,Student Ministry,Youth Events
ATTACH;FMTTYPE=image/png:https://ing-ingage.s3.amazonaws.com/pfwb/2018/02/09205534/Screen-Shot-2018-02-09-at-9.53.15-PM.png
END:VEVENT
BEGIN:VEVENT
DTSTART;VALUE=DATE:20190405
DTEND;VALUE=DATE:20190408
DTSTAMP:20260421T205225
CREATED:20180210T015631Z
LAST-MODIFIED:20190306T005846Z
UID:3230-1554422400-1554681599@pfwb.org
SUMMARY:The Surge
DESCRIPTION:April 5-7\nThis Co-Ed event is for Children’s Leaders and kids K-5. Enjoy a time of Worship|Food|Fun|Fellowship|Breakout Sessions. Contact PFWB Resource Center for any questions 910.892.4161 \nSPEAKERS\n\n\n\n\n\n\n\n\n\n\n \nHANNAH WARD\nFriday Speaker \n\n\n\n\n\n\n\n\n \nJOEY REAGAN\nSaturday Speaker \n\n\n\n\n\n\n\n\n \nJoel Rowland\nSunday Speaker
URL:https://pfwb.org/event/the-surge/
LOCATION:Crusader Youth Camp\, 1609 Bud Hawkins Road\, Dunn\, NC\, 28334\, United States
CATEGORIES:CYC,Student Ministry,Youth Events
ATTACH;FMTTYPE=image/png:https://ing-ingage.s3.amazonaws.com/pfwb/2018/02/09205534/Screen-Shot-2018-02-09-at-9.53.15-PM.png
END:VEVENT
BEGIN:VEVENT
DTSTART;TZID=America/New_York:20190315T173000
DTEND;TZID=America/New_York:20190317T120000
DTSTAMP:20260421T205225
CREATED:20190105T014226Z
LAST-MODIFIED:20190105T022253Z
UID:3822-1552671000-1552824000@pfwb.org
SUMMARY:Encounter '19 (Middle & High School)
DESCRIPTION:Encounter ’18 is a three day experience where Students and Student Leaders encounter Jesus through dynamic worship and powerful teaching.
URL:https://pfwb.org/event/encounter-19-middle-high-school/
LOCATION:Crusader Youth Camp\, 1609 Bud Hawkins Road\, Dunn\, NC\, 28334\, United States
CATEGORIES:Conferences,CYC,Student Ministry,Youth Events
ATTACH;FMTTYPE=image/png:https://ing-ingage.s3.amazonaws.com/pfwb/2019/01/04212245/enc19-social.png
END:VEVENT
BEGIN:VEVENT
DTSTART;TZID=America/Chicago:20180610T170000
DTEND;TZID=America/Chicago:20180615T120000
DTSTAMP:20260421T205225
CREATED:20171016T211554Z
LAST-MODIFIED:20171016T211554Z
UID:2708-1528650000-1529064000@pfwb.org
SUMMARY:Camp Friendship
DESCRIPTION:
URL:https://pfwb.org/event/camp-friendship/
LOCATION:Crusader Youth Camp\, 1609 Bud Hawkins Road\, Dunn\, NC\, 28334\, United States
CATEGORIES:CYC
ATTACH;FMTTYPE=image/jpeg:https://pfwb.org/wp-content/uploads/2017/10/cyc-logo-official-high-resolution.jpg
END:VEVENT
BEGIN:VEVENT
DTSTART;TZID=America/Chicago:20180514T080000
DTEND;TZID=America/Chicago:20180516T170000
DTSTAMP:20260421T205225
CREATED:20171016T211822Z
LAST-MODIFIED:20171016T211822Z
UID:2712-1526284800-1526490000@pfwb.org
SUMMARY:Camp Caleb
DESCRIPTION:
URL:https://pfwb.org/event/camp-caleb/
LOCATION:Crusader Youth Camp\, 1609 Bud Hawkins Road\, Dunn\, NC\, 28334\, United States
CATEGORIES:CYC
ATTACH;FMTTYPE=image/jpeg:https://pfwb.org/wp-content/uploads/2017/10/cyc-logo-official-high-resolution.jpg
END:VEVENT
BEGIN:VEVENT
DTSTART;TZID=America/Chicago:20180420T180000
DTEND;TZID=America/Chicago:20180421T120000
DTSTAMP:20260421T205225
CREATED:20171017T114441Z
LAST-MODIFIED:20171017T114441Z
UID:2759-1524247200-1524312000@pfwb.org
SUMMARY:CYC Staff & Counselor Training
DESCRIPTION:
URL:https://pfwb.org/event/cyc-staff-counselor-training/
LOCATION:Crusader Youth Camp\, 1609 Bud Hawkins Road\, Dunn\, NC\, 28334\, United States
CATEGORIES:CYC
ATTACH;FMTTYPE=image/jpeg:https://pfwb.org/wp-content/uploads/2017/10/cyc-logo-official-high-resolution.jpg
END:VEVENT
END:VCALENDAR