BEGIN:VCALENDAR
VERSION:2.0
PRODID:-//PFWB - ECPv6.15.20//NONSGML v1.0//EN
CALSCALE:GREGORIAN
METHOD:PUBLISH
X-ORIGINAL-URL:https://pfwb.org
X-WR-CALDESC:Events for PFWB
REFRESH-INTERVAL;VALUE=DURATION:PT1H
X-Robots-Tag:noindex
X-PUBLISHED-TTL:PT1H
BEGIN:VTIMEZONE
TZID:America/New_York
BEGIN:DAYLIGHT
TZOFFSETFROM:-0500
TZOFFSETTO:-0400
TZNAME:EDT
DTSTART:20230312T070000
END:DAYLIGHT
BEGIN:STANDARD
TZOFFSETFROM:-0400
TZOFFSETTO:-0500
TZNAME:EST
DTSTART:20231105T060000
END:STANDARD
BEGIN:DAYLIGHT
TZOFFSETFROM:-0500
TZOFFSETTO:-0400
TZNAME:EDT
DTSTART:20240310T070000
END:DAYLIGHT
BEGIN:STANDARD
TZOFFSETFROM:-0400
TZOFFSETTO:-0500
TZNAME:EST
DTSTART:20241103T060000
END:STANDARD
BEGIN:DAYLIGHT
TZOFFSETFROM:-0500
TZOFFSETTO:-0400
TZNAME:EDT
DTSTART:20250309T070000
END:DAYLIGHT
BEGIN:STANDARD
TZOFFSETFROM:-0400
TZOFFSETTO:-0500
TZNAME:EST
DTSTART:20251102T060000
END:STANDARD
END:VTIMEZONE
BEGIN:VEVENT
DTSTART;TZID=America/New_York:20240911T190000
DTEND;TZID=America/New_York:20240913T140000
DTSTAMP:20260425T144530
CREATED:20240208T213801Z
LAST-MODIFIED:20240819T153659Z
UID:8859-1726081200-1726236000@pfwb.org
SUMMARY:Church Leadership Conference
DESCRIPTION:Four Denominations come together for this dynamic event! We come together for one singular purpose: to hear from the Lord and take that word to the world he gave His life for. The Pentecostal Freewill Baptist\, Congregation Holiness Church\, Church of God Mountain Assembly\, and the International Pentecostal Church of Christ have been blessed to join our hearts together for this wonderful time of ministry and encouragement! \nWe would love for you to come and join us as we fellowship and learn together how best to minister in this specific hour of history which God has allowed us to reside.
URL:https://pfwb.org/event/church-leadership-conference-4/
LOCATION:Music Road Hotel\, 303 Henderson Chapel Rd\, Pigeon Forge\, TN\, United States
CATEGORIES:Conferences
ATTACH;FMTTYPE=image/jpeg:https://ing-ingage.s3.amazonaws.com/pfwb/2023/09/09095853/CLC-small.jpg
END:VEVENT
END:VCALENDAR