BEGIN:VCALENDAR
VERSION:2.0
PRODID:-//PFWB - ECPv6.15.20//NONSGML v1.0//EN
CALSCALE:GREGORIAN
METHOD:PUBLISH
X-WR-CALNAME:PFWB
X-ORIGINAL-URL:https://pfwb.org
X-WR-CALDESC:Events for PFWB
REFRESH-INTERVAL;VALUE=DURATION:PT1H
X-Robots-Tag:noindex
X-PUBLISHED-TTL:PT1H
BEGIN:VTIMEZONE
TZID:America/New_York
BEGIN:DAYLIGHT
TZOFFSETFROM:-0500
TZOFFSETTO:-0400
TZNAME:EDT
DTSTART:20180311T070000
END:DAYLIGHT
BEGIN:STANDARD
TZOFFSETFROM:-0400
TZOFFSETTO:-0500
TZNAME:EST
DTSTART:20181104T060000
END:STANDARD
BEGIN:DAYLIGHT
TZOFFSETFROM:-0500
TZOFFSETTO:-0400
TZNAME:EDT
DTSTART:20190310T070000
END:DAYLIGHT
BEGIN:STANDARD
TZOFFSETFROM:-0400
TZOFFSETTO:-0500
TZNAME:EST
DTSTART:20191103T060000
END:STANDARD
BEGIN:DAYLIGHT
TZOFFSETFROM:-0500
TZOFFSETTO:-0400
TZNAME:EDT
DTSTART:20200308T070000
END:DAYLIGHT
BEGIN:STANDARD
TZOFFSETFROM:-0400
TZOFFSETTO:-0500
TZNAME:EST
DTSTART:20201101T060000
END:STANDARD
BEGIN:DAYLIGHT
TZOFFSETFROM:-0500
TZOFFSETTO:-0400
TZNAME:EDT
DTSTART:20210314T070000
END:DAYLIGHT
BEGIN:STANDARD
TZOFFSETFROM:-0400
TZOFFSETTO:-0500
TZNAME:EST
DTSTART:20211107T060000
END:STANDARD
BEGIN:DAYLIGHT
TZOFFSETFROM:-0500
TZOFFSETTO:-0400
TZNAME:EDT
DTSTART:20220313T070000
END:DAYLIGHT
BEGIN:STANDARD
TZOFFSETFROM:-0400
TZOFFSETTO:-0500
TZNAME:EST
DTSTART:20221106T060000
END:STANDARD
BEGIN:DAYLIGHT
TZOFFSETFROM:-0500
TZOFFSETTO:-0400
TZNAME:EDT
DTSTART:20230312T070000
END:DAYLIGHT
BEGIN:STANDARD
TZOFFSETFROM:-0400
TZOFFSETTO:-0500
TZNAME:EST
DTSTART:20231105T060000
END:STANDARD
BEGIN:DAYLIGHT
TZOFFSETFROM:-0500
TZOFFSETTO:-0400
TZNAME:EDT
DTSTART:20240310T070000
END:DAYLIGHT
BEGIN:STANDARD
TZOFFSETFROM:-0400
TZOFFSETTO:-0500
TZNAME:EST
DTSTART:20241103T060000
END:STANDARD
BEGIN:DAYLIGHT
TZOFFSETFROM:-0500
TZOFFSETTO:-0400
TZNAME:EDT
DTSTART:20250309T070000
END:DAYLIGHT
BEGIN:STANDARD
TZOFFSETFROM:-0400
TZOFFSETTO:-0500
TZNAME:EST
DTSTART:20251102T060000
END:STANDARD
END:VTIMEZONE
BEGIN:VEVENT
DTSTART;VALUE=DATE:20241005
DTEND;VALUE=DATE:20241006
DTSTAMP:20260421T144818
CREATED:20230914T183021Z
LAST-MODIFIED:20241004T143019Z
UID:8761-1728086400-1728172799@pfwb.org
SUMMARY:Family Conference 2024
DESCRIPTION:🌟 **Exciting News!** 🌟  The 150 to register will be entered into a drawing for a $500.00 gift card! \nOur passion for this conference runs deep\, as we aim to uplift marriages and guide families towards the transformative power of family discipleship. Join us as we unravel the significance of fostering strong family bonds within the comfort of one’s home. We are so excited about our speaker line up for 2024!!! \nPFWB Tabernacle // 1107 Long Branch Road // Dunn\, NC \nCost is $25.00 per person and $20.00 for groups of 10+. Sign up below! \nClick Here for Speaker Info \n 
URL:https://pfwb.org/event/family-conference-2024/
CATEGORIES:Church Planting,Discipleship Events,Hispanic Ministry,Ministers' Wives,Pastor's Wife,Pastors Events,Pastors' Wives,Student Ministry,Women's Ministry,Youth Events
ATTACH;FMTTYPE=image/png:https://ing-ingage.s3.amazonaws.com/pfwb/2023/09/04102935/Screen-Shot-2023-12-19-at-1.44.14-PM.png
END:VEVENT
BEGIN:VEVENT
DTSTART;TZID=America/New_York:20191105T190000
DTEND;TZID=America/New_York:20191105T203000
DTSTAMP:20260421T144818
CREATED:20190105T032019Z
LAST-MODIFIED:20190105T032019Z
UID:3968-1572980400-1572985800@pfwb.org
SUMMARY:Church Planters Banquet
DESCRIPTION:
URL:https://pfwb.org/event/church-planters-banquet/
CATEGORIES:Church Planting
END:VEVENT
END:VCALENDAR